BEGIN:VCALENDAR
VERSION:2.0
PRODID:-//Cecile With Love &amp; Light - ECPv6.15.20//NONSGML v1.0//EN
CALSCALE:GREGORIAN
METHOD:PUBLISH
X-WR-CALNAME:Cecile With Love &amp; Light
X-ORIGINAL-URL:https://cecilewithloveandlight.co.za
X-WR-CALDESC:Events for Cecile With Love &amp; Light
REFRESH-INTERVAL;VALUE=DURATION:PT1H
X-Robots-Tag:noindex
X-PUBLISHED-TTL:PT1H
BEGIN:VTIMEZONE
TZID:UTC
BEGIN:STANDARD
TZOFFSETFROM:+0000
TZOFFSETTO:+0000
TZNAME:UTC
DTSTART:20250101T000000
END:STANDARD
END:VTIMEZONE
BEGIN:VEVENT
DTSTART;TZID=UTC:20260328T090000
DTEND;TZID=UTC:20260328T150000
DTSTAMP:20260419T144403
CREATED:20260219T100333Z
LAST-MODIFIED:20260219T100630Z
UID:547-1774688400-1774710000@cecilewithloveandlight.co.za
SUMMARY:Nia by Cecile Exhibitor Spotlight
DESCRIPTION:We’re excited to introduce Cecile of Cecile Love&Light “You are invited! 💃🏻🎧Drop by the Expo anytime\, grab a headset\, and let the music and Cecile\, the dedicated Garden Route Nia facilitator\, guide you through an immersive 10-minute Nia Somatic Movement experience. \nThe Nia (Neuromuscular Integrative Action) technique empowers you to respond to your own inner body wisdoms\, giving you the ultimate choice in how you feel. Whether you need high-energy conditioning or a gentle somatic reset\, the power is in your hands—because the body always tells the truth. \nWhat is Nia?\nA holistic blend of Martial Arts\, Dance\, and Healing Arts\, Nia celebrates the joy of movement for every body and fitness level. \nIn just 10 minutes\, you can:\n🎵Boost Vitality & Strength\n🎵Reduce Stress & Anxiety\n🎵Enhance Mobility & Flexibility\n🎵Elevate Your Mood \nStep in with a beginner’s mind. Leave feeling stable\, mobile\, and empowered.” \nCome experience a NIA Boost at The Iconic Wellness Expo Mossel Bay (IWEM) :\n📅 28 March 2026\n⏰ 09:00 – 15:00\n📍 Mossel Bay Town Hall\n🆓 Entrance is FREE \n#IconicWellnessExpo \n#MosselBayEvents \n#WellnessExpo
URL:https://cecilewithloveandlight.co.za/event/nia-by-cecile-exhibitor-spotlight/
LOCATION:Mossel Bay Town Hall\, 101 Marsh St\, Mossel Bay Central\, Mossel Bay\, Mossel Bay\, Western Cape\, 6500\, South Africa
CATEGORIES:Upcoming
ATTACH;FMTTYPE=image/jpeg:https://cecilewithloveandlight.co.za/wp-content/uploads/2026/02/WhatsApp-Image-2026-02-18-at-08.03.17.jpeg
END:VEVENT
END:VCALENDAR